BEGIN:VCALENDAR
VERSION:2.0
PRODID:-//Squarespace Inc/Squarespace 6//v6//EN
BEGIN:VEVENT
UID:5dd3ba27b036cc38a02899ad@squarespace.com
DTSTAMP:20191119T094926Z
DTSTART:20191214T010000Z
DTEND:20191214T043000Z
SUMMARY:ROXANNE - The Police Tribute:
END:VEVENT
END:VCALENDAR
