BEGIN:VCALENDAR
VERSION:2.0
PRODID:-//Squarespace Inc/Squarespace 6//v6//EN
BEGIN:VEVENT
UID:5a865dc1e2c48398a10d861d@squarespace.com
DTSTAMP:20180606T052535Z
DTSTART:20180614T233000Z
DTEND:20180618T033000Z
SUMMARY:Country Round Up!
END:VEVENT
END:VCALENDAR
