BEGIN:VCALENDAR
VERSION:2.0
PRODID:-//Squarespace Inc/Squarespace 6//v6//EN
BEGIN:VEVENT
UID:5b231433575d1f2490a7a7a7@squarespace.com
DTSTAMP:20180615T012312Z
DTSTART:20180624T183000Z
DTEND:20180624T210000Z
SUMMARY:High Tea
END:VEVENT
END:VCALENDAR
