BEGIN:VCALENDAR
VERSION:2.0
PRODID:-//Squarespace Inc/Squarespace 6//v6//EN
BEGIN:VEVENT
UID:5b23128903ce64eefd170828@squarespace.com
DTSTAMP:20180615T011817Z
DTSTART:20180627T230000Z
DTEND:20180628T013000Z
SUMMARY:Deb Webber Live Medium
END:VEVENT
END:VCALENDAR
