BEGIN:VCALENDAR
VERSION:2.0
PRODID:-//Squarespace Inc/Squarespace 6//v6//EN
BEGIN:VEVENT
UID:5c05d2880ebbe83d9367d7e5@squarespace.com
DTSTAMP:20191224T001057Z
DTSTART:20200101T020000Z
DTEND:20200101T045900Z
SUMMARY:NYE Music: Fiction
END:VEVENT
END:VCALENDAR
