BEGIN:VCALENDAR
VERSION:2.0
PRODID:-//Squarespace Inc/Squarespace 6//v6//EN
BEGIN:VEVENT
UID:5e3feb594b6b8940ee9d5de0@squarespace.com
DTSTAMP:20200209T112222Z
DTSTART:20200321T003000Z
DTEND:20200321T040000Z
SUMMARY: Andrew Wishart Duo Live &amp\; Free Feat. Simon on the piano
END:VEVENT
END:VCALENDAR
