BEGIN:VCALENDAR
VERSION:2.0
PRODID:-//Squarespace Inc/Squarespace 6//v6//EN
BEGIN:VEVENT
UID:5e153319ff63115c0a8c40e2@squarespace.com
DTSTAMP:20200108T014130Z
DTSTART:20200129T000000Z
DTEND:20200129T040000Z
SUMMARY: Andrew Wishart Duo Live &amp\; Free Feat. Simon on the piano
END:VEVENT
END:VCALENDAR
