BEGIN:VCALENDAR
VERSION:2.0
PRODID:-//Squarespace Inc/Squarespace 6//v6//EN
BEGIN:VEVENT
UID:5dd3c7620fb697248c2b9954@squarespace.com
DTSTAMP:20191224T001121Z
DTSTART:20191230T230000Z
DTEND:20191231T033000Z
SUMMARY:Andrew Wishart Live &amp\; Free
END:VEVENT
END:VCALENDAR
