BEGIN:VCALENDAR
VERSION:2.0
PRODID:-//Squarespace Inc/Squarespace 6//v6//EN
BEGIN:VEVENT
UID:5e3fe9e6bab6ba3cfa343d8b@squarespace.com
DTSTAMP:20200209T111615Z
DTSTART:20200314T000000Z
DTEND:20200314T034500Z
SUMMARY:Overtime Duo
END:VEVENT
END:VCALENDAR
