BEGIN:VCALENDAR
VERSION:2.0
PRODID:-//Squarespace Inc/Squarespace 6//v6//EN
BEGIN:VEVENT
UID:5e32150a6fd544780ff127d7@squarespace.com
DTSTAMP:20200129T232823Z
DTSTART:20200201T010000Z
DTEND:20200201T044500Z
SUMMARY:Overtime Duo 
END:VEVENT
END:VCALENDAR
