BEGIN:VCALENDAR
VERSION:2.0
PRODID:-//Squarespace Inc/Squarespace 6//v6//EN
BEGIN:VEVENT
UID:5daae7627d9a4047a7337ae0@squarespace.com
DTSTAMP:20191019T103831Z
DTSTART:20200223T010000Z
DTEND:20200223T044500Z
SUMMARY:Dean &amp\; Curruthers
END:VEVENT
END:VCALENDAR
