BEGIN:VCALENDAR
VERSION:2.0
PRODID:-//Squarespace Inc/Squarespace 6//v6//EN
BEGIN:VEVENT
UID:5e264953e3c0a94c0a96e277@squarespace.com
DTSTAMP:20200121T004427Z
DTSTART:20200128T000000Z
DTEND:20200128T040000Z
SUMMARY:Luke Dewing Duo
END:VEVENT
END:VCALENDAR
