BEGIN:VCALENDAR
VERSION:2.0
PRODID:-//Squarespace Inc/Squarespace 6//v6//EN
BEGIN:VEVENT
UID:5e0158203c0d2457766464f7@squarespace.com
DTSTAMP:20200121T004235Z
DTSTART:20200111T010000Z
DTEND:20200111T044500Z
SUMMARY:Luke Dewing Duo
END:VEVENT
END:VCALENDAR
