BEGIN:VCALENDAR
VERSION:2.0
PRODID:-//Squarespace Inc/Squarespace 6//v6//EN
BEGIN:VEVENT
UID:5dd3b63beab1f9276f4b1a66@squarespace.com
DTSTAMP:20191224T001027Z
DTSTART:20191229T010000Z
DTEND:20191229T045900Z
SUMMARY:JB &amp\; ME Duo
END:VEVENT
END:VCALENDAR
