BEGIN:VCALENDAR
VERSION:2.0
PRODID:-//Squarespace Inc/Squarespace 6//v6//EN
BEGIN:VEVENT
UID:5e3fe9382ed8a656723bcf9c@squarespace.com
DTSTAMP:20200209T111523Z
DTSTART:20200308T230000Z
DTEND:20200309T023000Z
SUMMARY:Long Weekend Sunday Night Entertainment - Ray Macartney!
END:VEVENT
END:VCALENDAR
