BEGIN:VCALENDAR
VERSION:2.0
PRODID:-//Squarespace Inc/Squarespace 6//v6//EN
BEGIN:VEVENT
UID:5e3fe7c7d8d2da072e771755@squarespace.com
DTSTAMP:20200210T100235Z
DTSTART:20200216T010000Z
DTEND:20200216T044500Z
SUMMARY:JET SKI &amp\; CASH GIVEAWAY! 
END:VEVENT
END:VCALENDAR
