BEGIN:VCALENDAR
VERSION:2.0
PRODID:-//Squarespace Inc/Squarespace 6//v6//EN
BEGIN:VEVENT
UID:5e3fe7f12c1d2d73681bd427@squarespace.com
DTSTAMP:20200209T110752Z
DTSTART:20200222T013000Z
DTEND:20200222T050000Z
SUMMARY:Me &amp\; the Girl
END:VEVENT
END:VCALENDAR
