BEGIN:VCALENDAR
VERSION:2.0
PRODID:-//Squarespace Inc/Squarespace 6//v6//EN
BEGIN:VEVENT
UID:5daae3c93b10fe1c14e51782@squarespace.com
DTSTAMP:20191019T102556Z
DTSTART:20200104T010000Z
DTEND:20200104T044500Z
SUMMARY:Me &amp\; the Girl
END:VEVENT
END:VCALENDAR
