BEGIN:VCALENDAR
VERSION:2.0
PRODID:-//Squarespace Inc/Squarespace 6//v6//EN
BEGIN:VEVENT
UID:5ceb65121905f4a0b9540b95@squarespace.com
DTSTAMP:20191029T043652Z
DTSTART:20200308T010000Z
DTEND:20200308T033000Z
SUMMARY:Felicity Urquhart &amp\; Brad Butcher
END:VEVENT
END:VCALENDAR
