BEGIN:VCALENDAR
VERSION:2.0
PRODID:-//Squarespace Inc/Squarespace 6//v6//EN
BEGIN:VEVENT
UID:5e12732810a69061a70bbaaa@squarespace.com
DTSTAMP:20200105T233810Z
DTSTART:20200118T013000Z
DTEND:20200118T044500Z
SUMMARY:The Reclining Rockers
END:VEVENT
END:VCALENDAR
