BEGIN:VCALENDAR
VERSION:2.0
PRODID:-//Squarespace Inc/Squarespace 6//v6//EN
BEGIN:VEVENT
UID:5e3feb24c0b99148441c9cd3@squarespace.com
DTSTAMP:20200209T112136Z
DTSTART:20200318T144500Z
DTEND:20200318T174500Z
SUMMARY:Morning Melodies - Anthony Tenace!
END:VEVENT
END:VCALENDAR
