BEGIN:VCALENDAR
VERSION:2.0
PRODID:-//Squarespace Inc/Squarespace 6//v6//EN
BEGIN:VEVENT
UID:5e3fe8a5f875f52b56784f24@squarespace.com
DTSTAMP:20200209T111055Z
DTSTART:20200219T154500Z
DTEND:20200219T184500Z
SUMMARY:Morning Melodies - Rodney Vincent
END:VEVENT
END:VCALENDAR
