BEGIN:VCALENDAR
VERSION:2.0
PRODID:-//Squarespace Inc/Squarespace 6//v6//EN
BEGIN:VEVENT
UID:5daae5e9c20b461ef1725793@squarespace.com
DTSTAMP:20200112T205028Z
DTSTART:20200115T154500Z
DTEND:20200115T184500Z
SUMMARY:Morning Melodies - Mick Tenace!
END:VEVENT
END:VCALENDAR
