BEGIN:VCALENDAR
VERSION:2.0
PRODID:-//Squarespace Inc/Squarespace 6//v6//EN
BEGIN:VEVENT
UID:5daae5977d9a4047a7336b90@squarespace.com
DTSTAMP:20200112T204523Z
DTSTART:20200119T010000Z
DTEND:20200119T044500Z
SUMMARY:The Slackers
END:VEVENT
END:VCALENDAR
