BEGIN:VCALENDAR
VERSION:2.0
PRODID:-//Squarespace Inc/Squarespace 6//v6//EN
BEGIN:VEVENT
UID:5e3fe8dbc0b99148441c672f@squarespace.com
DTSTAMP:20200209T111213Z
DTSTART:20200307T013000Z
DTEND:20200307T044500Z
SUMMARY:Rock 'n' Country Express
END:VEVENT
END:VCALENDAR
