BEGIN:VCALENDAR
VERSION:2.0
PRODID:-//Squarespace Inc/Squarespace 6//v6//EN
BEGIN:VEVENT
UID:5daae5201fe00373c22345ae@squarespace.com
DTSTAMP:20200112T204158Z
DTSTART:20200126T010000Z
DTEND:20200126T044500Z
SUMMARY:Rock 'n' Country Express
END:VEVENT
END:VCALENDAR
