BEGIN:VCALENDAR
VERSION:2.0
PRODID:-//Squarespace Inc/Squarespace 6//v6//EN
BEGIN:VEVENT
UID:5dd3b72c73af0e4699fc6fba@squarespace.com
DTSTAMP:20191119T093517Z
DTSTART:20191215T010000Z
DTEND:20191215T044500Z
SUMMARY:Rock 'n' Country Express
END:VEVENT
END:VCALENDAR
