BEGIN:VCALENDAR
VERSION:2.0
PRODID:-//Squarespace Inc/Squarespace 6//v6//EN
BEGIN:VEVENT
UID:5e3febe92e50ae04a9a38d04@squarespace.com
DTSTAMP:20200225T053542Z
DTSTART:20200329T213000Z
DTEND:20200330T003000Z
SUMMARY:EASTER TOY &amp\; CHOCOLATE RAFFLE &amp\; Dean Haitani - Sunday Nig
 ht Entertainment!
END:VEVENT
END:VCALENDAR
