BEGIN:VCALENDAR
VERSION:2.0
PRODID:-//Squarespace Inc/Squarespace 6//v6//EN
BEGIN:VEVENT
UID:5e21681f7cc7f93faf1514af@squarespace.com
DTSTAMP:20200209T112425Z
DTSTART:20200209T223000Z
DTEND:20200210T020000Z
SUMMARY:Dean Haitani - Sunday Night Entertainment!
END:VEVENT
END:VCALENDAR
