BEGIN:VCALENDAR
VERSION:2.0
PRODID:-//Squarespace Inc/Squarespace 6//v6//EN
BEGIN:VEVENT
UID:5d5bb9600dff450001cee787@squarespace.com
DTSTAMP:20191203T105537Z
DTSTART:20200612T093000Z
DTEND:20200614T033000Z
SUMMARY:Country Music Round Up
END:VEVENT
END:VCALENDAR
