BEGIN:VCALENDAR
VERSION:2.0
PRODID:-//Squarespace Inc/Squarespace 6//v6//EN
BEGIN:VEVENT
UID:5e3fea8f2c320258132dd3bb@squarespace.com
DTSTAMP:20200209T112044Z
DTSTART:20200315T000000Z
DTEND:20200315T034500Z
SUMMARY:Glenn Starr Live &amp\; Free!
END:VEVENT
END:VCALENDAR
