BEGIN:VCALENDAR
VERSION:2.0
PRODID:-//Squarespace Inc/Squarespace 6//v6//EN
BEGIN:VEVENT
UID:5e3febafd8d2da072e77769d@squarespace.com
DTSTAMP:20200209T112409Z
DTSTART:20200329T000000Z
DTEND:20200329T034500Z
SUMMARY:Mystic &amp\; Co &amp\; Monthly Birthday Draw
END:VEVENT
END:VCALENDAR
