BEGIN:VCALENDAR
VERSION:2.0
PRODID:-//Squarespace Inc/Squarespace 6//v6//EN
BEGIN:VEVENT
UID:5e153379ff63115c0a8c4f29@squarespace.com
DTSTAMP:20200112T204051Z
DTSTART:20200125T013000Z
DTEND:20200125T045900Z
SUMMARY:Mystic &amp\; Co
END:VEVENT
END:VCALENDAR
