BEGIN:VCALENDAR
VERSION:2.0
PRODID:-//Squarespace Inc/Squarespace 6//v6//EN
BEGIN:VEVENT
UID:5e3feb7f2ed8a656723bff9f@squarespace.com
DTSTAMP:20200209T112300Z
DTSTART:20200322T000000Z
DTEND:20200322T034500Z
SUMMARY:Scott &amp\; Amanda Duo
END:VEVENT
END:VCALENDAR
