BEGIN:VCALENDAR
VERSION:2.0
PRODID:-//Squarespace Inc/Squarespace 6//v6//EN
BEGIN:VEVENT
UID:5e3fe77fd8d2da072e77109d@squarespace.com
DTSTAMP:20200209T110624Z
DTSTART:20200215T013000Z
DTEND:20200215T050000Z
SUMMARY:Scott &amp\; Amanda Duo 
END:VEVENT
END:VCALENDAR
