BEGIN:VCALENDAR
VERSION:2.0
PRODID:-//Squarespace Inc/Squarespace 6//v6//EN
BEGIN:VEVENT
UID:5e1532cf2bf7fe00a398f924@squarespace.com
DTSTAMP:20200108T014003Z
DTSTART:20200127T000000Z
DTEND:20200127T033000Z
SUMMARY:Australia Day - Scott &amp\; Amanda Duo
END:VEVENT
END:VCALENDAR
