BEGIN:VCALENDAR
VERSION:2.0
PRODID:-//Squarespace Inc/Squarespace 6//v6//EN
BEGIN:VEVENT
UID:5dd3c702eab1f9276f4c3834@squarespace.com
DTSTAMP:20191224T000618Z
DTSTART:20191229T233000Z
DTEND:20191230T033000Z
SUMMARY:Scott &amp\; Amanda Duo
END:VEVENT
END:VCALENDAR
