BEGIN:VCALENDAR
VERSION:2.0
PRODID:-//Squarespace Inc/Squarespace 6//v6//EN
BEGIN:VEVENT
UID:5dd3baeeb036cc38a028ae37@squarespace.com
DTSTAMP:20191119T104210Z
DTSTART:20191221T010000Z
DTEND:20191221T044500Z
SUMMARY:Scott &amp\; Amanda Duo
END:VEVENT
END:VCALENDAR
