BEGIN:VCALENDAR
VERSION:2.0
PRODID:-//Squarespace Inc/Squarespace 6//v6//EN
BEGIN:VEVENT
UID:5db8e3ac4b050219e8b85ca4@squarespace.com
DTSTAMP:20191209T021138Z
DTSTART:20200516T220000Z
DTEND:20200517T130000Z
SUMMARY:2019 Wine Dinner Feat. Campbells Winery
END:VEVENT
END:VCALENDAR
